BEGIN:VCALENDAR
VERSION:2.0
PRODID:-//Fokus Media - ECPv6.15.20//NONSGML v1.0//EN
CALSCALE:GREGORIAN
METHOD:PUBLISH
X-ORIGINAL-URL:https://fokus.media.pl
X-WR-CALDESC:Wydarzenia dla Fokus Media
REFRESH-INTERVAL;VALUE=DURATION:PT1H
X-Robots-Tag:noindex
X-PUBLISHED-TTL:PT1H
BEGIN:VTIMEZONE
TZID:Europe/Warsaw
BEGIN:DAYLIGHT
TZOFFSETFROM:+0100
TZOFFSETTO:+0200
TZNAME:CEST
DTSTART:20250330T010000
END:DAYLIGHT
BEGIN:STANDARD
TZOFFSETFROM:+0200
TZOFFSETTO:+0100
TZNAME:CET
DTSTART:20251026T010000
END:STANDARD
BEGIN:DAYLIGHT
TZOFFSETFROM:+0100
TZOFFSETTO:+0200
TZNAME:CEST
DTSTART:20260329T010000
END:DAYLIGHT
BEGIN:STANDARD
TZOFFSETFROM:+0200
TZOFFSETTO:+0100
TZNAME:CET
DTSTART:20261025T010000
END:STANDARD
BEGIN:DAYLIGHT
TZOFFSETFROM:+0100
TZOFFSETTO:+0200
TZNAME:CEST
DTSTART:20270328T010000
END:DAYLIGHT
BEGIN:STANDARD
TZOFFSETFROM:+0200
TZOFFSETTO:+0100
TZNAME:CET
DTSTART:20271031T010000
END:STANDARD
END:VTIMEZONE
BEGIN:VEVENT
DTSTART;TZID=Europe/Warsaw:20260223T160000
DTEND;TZID=Europe/Warsaw:20260321T160000
DTSTAMP:20260423T163429
CREATED:20260218T072602Z
LAST-MODIFIED:20260218T072602Z
UID:4460-1771862400-1774108800@fokus.media.pl
SUMMARY:Otwarcie wystawy poplenerowej malarstwa i rzeźby "Odkrywamy barwy dzielnic Rzeszowa"
DESCRIPTION:Wystawa prezentuje prace powstałe podczas pleneru malarsko-rzeźbiarskiego „Odkrywamy barwy dzielnic Rzeszowa”\, zrealizowanego w ubiegłym roku we współpracy z Miesięcznik Społeczno – Kulturalny „Nasz Dom – Rzeszów”\, Klubem „Zodiak”  oraz Spółdzielnią Mieszkaniową Osiedla Mieszka I.\n\n\nPlener objął centrum Rzeszów oraz okolice ulic Hetmańskiej\, Mieszka I\, Pułaskiego i Dąbrowskiego. Artyści – inspirowani historią i współczesnym obliczem miasta – utrwalali w malarstwie i rzeźbie pejzaże miejskie\, architekturę\, bulwary nad Wisłokiem oraz charakterystyczne zakątki osiedli.\n\n\nTwórczym spotkaniom towarzyszyły prelekcje i oprowadzania historyczne z udziałem przedstawicieli władz miasta i regionalistów.\n\n\nWystawa w 𝐖𝐲𝐩𝐨𝐳̇𝐲𝐜𝐳𝐚𝐥𝐧𝐢 𝐆ł𝐨́𝐰𝐧𝐞𝐣 to artystyczna opowieść o tożsamości rzeszowskich dzielnic \, ich przemianach oraz barwach widzianych oczami twórców. Ekspozycja prezentuje różnorodne techniki i indywidualne interpretacje przestrzeni miejskiej\, podkreślając lokalny charakter i społeczne zaangażowanie projektu.
URL:https://fokus.media.pl/wydarzenie/otwarcie-wystawy-poplenerowej-malarstwa-i-rzezby-odkrywamy-barwy-dzielnic-rzeszowa/
LOCATION:Wojewódzka i Miejska Biblioteka Publiczna\, Wypożyczalnia Główna\, ul. Dąbrowskiego 33A\, Rzeszów
END:VEVENT
BEGIN:VEVENT
DTSTART;TZID=Europe/Warsaw:20260225T103000
DTEND;TZID=Europe/Warsaw:20260301T123000
DTSTAMP:20260423T163429
CREATED:20260216T133142Z
LAST-MODIFIED:20260216T134818Z
UID:4384-1772015400-1772368200@fokus.media.pl
SUMMARY:Warsztaty dla dzieci i dorosłych / Od popiołu do detergentu
DESCRIPTION:Podczas warsztatów „Od popiołu do detergentu” uczestnicy będą mieli okazję dowiedzieć się więcej o zasadach higieny obowiązujących w chłopskiej chałupie i w ziemiańskim dworze. W czasie spaceru po skansenie obejrzą różne rodzaje przyrządów służących do mycia\, prania i prasowania\, zajrzą też do dworskiej apteczki\, a potem wykorzystają pozyskaną wiedzę w praktyce i stworzą własną sól do kąpieli i proszek do zębów.
URL:https://fokus.media.pl/wydarzenie/warsztaty-dla-dzieci-i-doroslych-od-popiolu-do-detergentu/
LOCATION:Muzeum Kultury Ludowej w Kolbuszowej\, Kolbuszowa
END:VEVENT
BEGIN:VEVENT
DTSTART;TZID=Europe/Warsaw:20260228T160000
DTEND;TZID=Europe/Warsaw:20260228T170000
DTSTAMP:20260423T163429
CREATED:20260218T080704Z
LAST-MODIFIED:20260218T080704Z
UID:4463-1772294400-1772298000@fokus.media.pl
SUMMARY:Wieczór z poezją "Zapisane w wersach"
DESCRIPTION:W sobotę\, 28 lutego 2026 r. o godz. 16.00 zapraszamy do Klubu „Piwnice” Centrum Kulturalnego w Przemyślu na Wieczór z poezją.To spotkanie podkarpackich poetów\, którzy zaprezentują własną twórczość — bez narzuconej tematyki\, w pełni autorskim wyborze. Każdy głos\, każdy wers\, każda historia ma tu swoje miejsce.Dopełnieniem wieczoru będzie recital Zuzanny Ostafin — śpiewającej poetki z Lubziny\, łączącej słowo z muzyką.Zapraszamy poetów i wszystkich miłośników poezji do udziału w tym wydarzeniu. \n 
URL:https://fokus.media.pl/wydarzenie/wieczor-z-poezja-zapisane-w-wersach/
LOCATION:Centrum Kulturalne w Przemyślu\, ul. Konarskiego 9\, Przemyśl
END:VEVENT
END:VCALENDAR