BEGIN:VCALENDAR
VERSION:2.0
PRODID:-//Fokus Media - ECPv6.15.20//NONSGML v1.0//EN
CALSCALE:GREGORIAN
METHOD:PUBLISH
X-WR-CALNAME:Fokus Media
X-ORIGINAL-URL:https://fokus.media.pl
X-WR-CALDESC:Wydarzenia dla Fokus Media
REFRESH-INTERVAL;VALUE=DURATION:PT1H
X-Robots-Tag:noindex
X-PUBLISHED-TTL:PT1H
BEGIN:VTIMEZONE
TZID:Europe/Warsaw
BEGIN:DAYLIGHT
TZOFFSETFROM:+0100
TZOFFSETTO:+0200
TZNAME:CEST
DTSTART:20250330T010000
END:DAYLIGHT
BEGIN:STANDARD
TZOFFSETFROM:+0200
TZOFFSETTO:+0100
TZNAME:CET
DTSTART:20251026T010000
END:STANDARD
BEGIN:DAYLIGHT
TZOFFSETFROM:+0100
TZOFFSETTO:+0200
TZNAME:CEST
DTSTART:20260329T010000
END:DAYLIGHT
BEGIN:STANDARD
TZOFFSETFROM:+0200
TZOFFSETTO:+0100
TZNAME:CET
DTSTART:20261025T010000
END:STANDARD
BEGIN:DAYLIGHT
TZOFFSETFROM:+0100
TZOFFSETTO:+0200
TZNAME:CEST
DTSTART:20270328T010000
END:DAYLIGHT
BEGIN:STANDARD
TZOFFSETFROM:+0200
TZOFFSETTO:+0100
TZNAME:CET
DTSTART:20271031T010000
END:STANDARD
END:VTIMEZONE
BEGIN:VEVENT
DTSTART;TZID=Europe/Warsaw:20260409T080000
DTEND;TZID=Europe/Warsaw:20260514T170000
DTSTAMP:20260423T113024
CREATED:20260220T090105Z
LAST-MODIFIED:20260220T090105Z
UID:4533-1775721600-1778778000@fokus.media.pl
SUMMARY:Czas sztuki – interpretacje. Nauka czytania obrazów | NOWOŚĆ w Rzeszowskich Piwnicach
DESCRIPTION:Rzeszowskie Piwnice zapraszają na nową odsłonę cyklu Czas sztuki\, wzbogaconą o warsztaty poświęcone świadomemu odbiorowi i interpretacji dzieł malarskich. „Czas sztuki – interpretacje. Nauka czytania obrazów” to propozycja dla osób\, które chcą nauczyć się uważnego patrzenia na sztukę oraz samodzielnego odkrywania znaczeń ukrytych w obrazach. \nProgram zajęć koncentruje się na analizie kompozycji\, symboliki\, emocji zapisanych w dziele oraz jego kontekstu historycznego. Uczestnicy będą pracować na przykładach motywów i obrazów obecnych w twórczości wybitnych polskich artystów\, m.in. Jacka Malczewskiego\, Władysława Podkowińskiego\, Jana Matejki\, Józefa Pankiewicza oraz Zofii Stryjeńskiej. Forma spotkań sprzyja rozwijaniu umiejętności samodzielnego „czytania” obrazów oraz pogłębianiu wrażliwości na język sztuki. \nWarsztaty poprowadzi Jolanta Bobala – historyczka sztuki\, która z pasją i swobodą przeprowadzi uczestników przez świat malarstwa\, ucząc uważnej obserwacji i interpretacji dzieł w oparciu o dialog\, kontekst i osobiste doświadczenie odbiorcy. \n \nProgram cyklu: \n\n9 kwietnia – Jacek Malczewski\, Śmierć Ellenai\n16 kwietnia – Władysław Podkowiński\, Szał uniesień\n23 kwietnia – Jan Matejko\, Wernyhora\n7 maja – Józef Pankiewicz\, Dziewczynka w czerwonej sukience\n14 maja – Zofia Stryjeńska\, Piast (Aniołowie u Piasta)\n\nInformacje organizacyjne: \n\nZasady udziału: spotkania dedykowane osobom dorosłym\nBilety: 45 zł – bilet pojedynczy / 200 zł – karnet (5 spotkań)\, dostępne online oraz w kasie\nCzas trwania: około 2 godziny\nMiejsce: sala kinowa Rzeszowskich Piwnic\nDostępność: miejsce dostępne architektonicznie\, toalety przystosowane do potrzeb osób z niepełnosprawnościami\, winda po lewej stronie drzwi wejściowych\n\nProwadząca:\nJolanta Bobala – absolwentka historii sztuki Instytutu Historii Sztuki Uniwersytetu Jagiellońskiego. Interesuje się malarstwem przełomu XIX i XX wieku\, fotografią oraz metodami interpretacji obrazu. Publikowała w magazynie „Szum”\, współpracuje z Działem Edukacji Muzeum Narodowego w Krakowie\, prowadzi autorskie wycieczki po Krakowie i krakowskich muzeach w ramach działalności Art to go!. \nBilety dostępne w sprzedaży od 24 kwietnia stacjonarnie w Rzeszowskich Piwnicach oraz na www.rzeszowskiepiwnice.pl
URL:https://fokus.media.pl/wydarzenie/czas-sztuki-interpretacje-nauka-czytania-obrazow-nowosc-w-rzeszowskich-piwnicach/
LOCATION:Rzeszowskie Piwnice\, Rynek 26\, Rzeszów
END:VEVENT
BEGIN:VEVENT
DTSTART;TZID=Europe/Warsaw:20260423T173000
DTEND;TZID=Europe/Warsaw:20260423T173000
DTSTAMP:20260423T113024
CREATED:20260415T075955Z
LAST-MODIFIED:20260415T075955Z
UID:5762-1776965400-1776965400@fokus.media.pl
SUMMARY:Wernisaż wystawy malarstwa Narcyza Pióreckiego pt. „Kalendarz 2026”
DESCRIPTION:Muzeum Historyczne w Sanoku\n\nserdecznie zaprasza\nna wernisaż wystawy malarstwa \nNARCYZA PIÓRECKIEGO\npt. „Kalendarz 2026” \nWydarzenie odbędzie się\n23 kwietnia 2026 r. o godzinie 17:30\nw podziemiach\nZamku Królewskiego w Sanoku\nul. Zamkowa 2
URL:https://fokus.media.pl/wydarzenie/wernisaz-wystawy-malarstwa-narcyza-pioreckiego-pt-kalendarz-2026/
LOCATION:Muzeum Historyczne w Sanoku\, Zamkowa 2\, Sanok
END:VEVENT
BEGIN:VEVENT
DTSTART;VALUE=DATE:20260516
DTEND;VALUE=DATE:20260517
DTSTAMP:20260423T113024
CREATED:20260305T121112Z
LAST-MODIFIED:20260305T121112Z
UID:4793-1778889600-1778975999@fokus.media.pl
SUMMARY:I Trójbieg dębicki
DESCRIPTION:16 maja 2026 roku odbędzie się powiatowy etap I Trójbiegu dębickiego. Wydarzenie zainauguruje trzyczęściowy cykl biegowy organizowany wspólnie przez samorządy Powiatu Dębickiego\, Miasta Dębica oraz Gminy Dębica. \nW sobotę\, 16 maja 2026 r.\, o godzinie 9:00 rozpocznie się powiatowy etap I Trójbiegu dębickiego – pierwsze wydarzenie w ramach nowego cyklu biegów organizowanego na terenie Powiatu Dębickiego. Inicjatywa ma na celu promocję aktywnego stylu życia oraz integrację mieszkańców poprzez wspólne przedsięwzięcia sportowe. \nStart oraz meta biegu zlokalizowane będą na boisku pod lasem\, przy końcu ul. 23 Sierpnia w Dębicy. Trasa poprowadzona zostanie w otoczeniu terenów zielonych\, sprzyjających rekreacji i aktywnemu wypoczynkowi. Na uczestników czeka około 10-kilometrowa\, malownicza trasa prowadząca w 90% drogami\, duktami i ścieżkami leśnymi oraz w niewielkiej części asfaltem. Trasa zostanie w całości oznakowana przez organizatora\, a na jej przebiegu znajdzie się punkt odżywczy. Limit czasu na pokonanie dystansu wynosi 3 godziny\, natomiast limit uczestników został ustalony na 100 osób. \nDrugi etap\, organizowany przez Miasto Dębica\, odbędzie się 20 czerwca 2026 r. Trzeci i zarazem ostatni etap zorganizowany zostanie 11 lipca 2026 r. \nWyjątkowym elementem całego cyklu jest pamiątkowy medal składający się z trzech części. Każdy z biegów – powiatowy (16 maja 2026 r.)\, miejski (20 czerwca 2026 r.) oraz gminny (11 lipca 2026 r.) – to jedna część medalu. Ukończenie wszystkich etapów pozwoli skompletować całość i stworzyć unikatową pamiątkę I Trójbiegu dębickiego. \nZgłoszenia przyjmowane są drogą elektroniczną poprzez formularz na stronie timekeeper.pl do 15 maja 2026 r. lub do wyczerpania limitu miejsc. Opłata startowa wynosi 50 zł przy wcześniejszej rejestracji oraz 70 zł w biurze zawodów. \nOrganizatorami wydarzenia są: Powiat Dębicki\, Miasto Dębica oraz Gmina Dębica. Partnerami przedsięwzięcia są: Dębicki Klub Biegacza Maratończyk\, Ochotnicza Straż Pożarna w Stasiówce oraz Nadleśnictwo Dębica.
URL:https://fokus.media.pl/wydarzenie/i-trojbieg-debicki/
END:VEVENT
END:VCALENDAR