BEGIN:VCALENDAR
VERSION:2.0
PRODID:-//Fokus Media - ECPv6.15.20//NONSGML v1.0//EN
CALSCALE:GREGORIAN
METHOD:PUBLISH
X-ORIGINAL-URL:https://fokus.media.pl
X-WR-CALDESC:Wydarzenia dla Fokus Media
REFRESH-INTERVAL;VALUE=DURATION:PT1H
X-Robots-Tag:noindex
X-PUBLISHED-TTL:PT1H
BEGIN:VTIMEZONE
TZID:Europe/Warsaw
BEGIN:DAYLIGHT
TZOFFSETFROM:+0100
TZOFFSETTO:+0200
TZNAME:CEST
DTSTART:20250330T010000
END:DAYLIGHT
BEGIN:STANDARD
TZOFFSETFROM:+0200
TZOFFSETTO:+0100
TZNAME:CET
DTSTART:20251026T010000
END:STANDARD
BEGIN:DAYLIGHT
TZOFFSETFROM:+0100
TZOFFSETTO:+0200
TZNAME:CEST
DTSTART:20260329T010000
END:DAYLIGHT
BEGIN:STANDARD
TZOFFSETFROM:+0200
TZOFFSETTO:+0100
TZNAME:CET
DTSTART:20261025T010000
END:STANDARD
BEGIN:DAYLIGHT
TZOFFSETFROM:+0100
TZOFFSETTO:+0200
TZNAME:CEST
DTSTART:20270328T010000
END:DAYLIGHT
BEGIN:STANDARD
TZOFFSETFROM:+0200
TZOFFSETTO:+0100
TZNAME:CET
DTSTART:20271031T010000
END:STANDARD
END:VTIMEZONE
BEGIN:VEVENT
DTSTART;TZID=Europe/Warsaw:20260220T170000
DTEND;TZID=Europe/Warsaw:20260220T170000
DTSTAMP:20260424T022415
CREATED:20260218T070812Z
LAST-MODIFIED:20260218T070902Z
UID:4448-1771606800-1771606800@fokus.media.pl
SUMMARY:Art 2026
DESCRIPTION:Już 20 lutego (piątek) o godz. 17:00 w Centrum Kultury i Promocji Gminy Pilzno odbędzie się niezwykła prezentacja prac uczestników zajęć artystycznych.\n\n\nTo doskonała okazja\, aby zobaczyć\, jak pasja\, talent i kreatywność łączą się w różnorodnych formach sztuki – od klasycznych inspiracji po nowoczesne interpretacje.\n\n\n\n\n\n\n\nZachęcamy także do zapisów na przedstawienie teatralne \, które odbędzie się o godz. 18:00\, czyli zaraz po wystawie.\n\n\nlink do zapisów : https://forms.gle/5v3uBDPo7QSDXqFK8
URL:https://fokus.media.pl/wydarzenie/art-2026/
LOCATION:Centrum Kultury i Promocji Gminy Pilzno\, ul. Węgierska 30\, Pilzno
END:VEVENT
END:VCALENDAR