BEGIN:VCALENDAR
VERSION:2.0
PRODID:-//Fokus Media - ECPv6.15.20//NONSGML v1.0//EN
CALSCALE:GREGORIAN
METHOD:PUBLISH
X-ORIGINAL-URL:https://fokus.media.pl
X-WR-CALDESC:Wydarzenia dla Fokus Media
REFRESH-INTERVAL;VALUE=DURATION:PT1H
X-Robots-Tag:noindex
X-PUBLISHED-TTL:PT1H
BEGIN:VTIMEZONE
TZID:Europe/Warsaw
BEGIN:DAYLIGHT
TZOFFSETFROM:+0100
TZOFFSETTO:+0200
TZNAME:CEST
DTSTART:20250330T010000
END:DAYLIGHT
BEGIN:STANDARD
TZOFFSETFROM:+0200
TZOFFSETTO:+0100
TZNAME:CET
DTSTART:20251026T010000
END:STANDARD
BEGIN:DAYLIGHT
TZOFFSETFROM:+0100
TZOFFSETTO:+0200
TZNAME:CEST
DTSTART:20260329T010000
END:DAYLIGHT
BEGIN:STANDARD
TZOFFSETFROM:+0200
TZOFFSETTO:+0100
TZNAME:CET
DTSTART:20261025T010000
END:STANDARD
BEGIN:DAYLIGHT
TZOFFSETFROM:+0100
TZOFFSETTO:+0200
TZNAME:CEST
DTSTART:20270328T010000
END:DAYLIGHT
BEGIN:STANDARD
TZOFFSETFROM:+0200
TZOFFSETTO:+0100
TZNAME:CET
DTSTART:20271031T010000
END:STANDARD
END:VTIMEZONE
BEGIN:VEVENT
DTSTART;TZID=Europe/Warsaw:20260323T170000
DTEND;TZID=Europe/Warsaw:20260323T170000
DTSTAMP:20260423T234843
CREATED:20260318T085644Z
LAST-MODIFIED:20260318T085644Z
UID:5021-1774285200-1774285200@fokus.media.pl
SUMMARY:Spotkanie autorskie z Sebastianem Graniczkowskim w dębickiej bibliotece
DESCRIPTION:Miejska i Powiatowa Biblioteka Publiczna w Dębicy zaprasza na spotkanie autorskie Sebastianem Graniczkowskim\, które odbędzie się 23 marca 2026 r. o godz. 17.00 w budynku biblioteki przy ul. Akademickiej 10.Wydarzenie połączone będzie z promocją książki „Dębicka prasa polityczna 1932–1936”. Podczas spotkania porozmawiamy nie tylko o samej publikacji\, ale także o kulisach jej powstawania – pracy z archiwalną prasą sprzed niemal stu lat\, odkrywaniu zapomnianych artykułów oraz o tym\, jak wygląda proces pisania książki historycznej.Publikacja jest rozwinięciem nagrodzonej pracy magisterskiej autora\, obronionej na Uniwersytecie Papieskim Jana Pawła II w Krakowie\, która otrzymała nagrodę Rektora uczelni za najlepszą pracę magisterską. Książka analizuje działalność lokalnych gazet z okresu II Rzeczypospolitej – „Echo znad Wisłoki”\, „Wiadomości Dębickie” oraz „Zwierciadło znad Wisłoki”\, ukazując ich rolę w życiu społecznym i politycznym międzywojennej Dębicy.
URL:https://fokus.media.pl/wydarzenie/spotkanie-autorskie-z-sebastianem-graniczkowskim-w-debickiej-bibliotece/
LOCATION:Miejska i Powiatowa Biblioteka Publiczna\, ul. Akademicka 10\, Dębica
END:VEVENT
END:VCALENDAR