BEGIN:VCALENDAR
VERSION:2.0
PRODID:-//Fokus Media - ECPv6.15.20//NONSGML v1.0//EN
CALSCALE:GREGORIAN
METHOD:PUBLISH
X-ORIGINAL-URL:https://fokus.media.pl
X-WR-CALDESC:Wydarzenia dla Fokus Media
REFRESH-INTERVAL;VALUE=DURATION:PT1H
X-Robots-Tag:noindex
X-PUBLISHED-TTL:PT1H
BEGIN:VTIMEZONE
TZID:Europe/Warsaw
BEGIN:DAYLIGHT
TZOFFSETFROM:+0100
TZOFFSETTO:+0200
TZNAME:CEST
DTSTART:20250330T010000
END:DAYLIGHT
BEGIN:STANDARD
TZOFFSETFROM:+0200
TZOFFSETTO:+0100
TZNAME:CET
DTSTART:20251026T010000
END:STANDARD
BEGIN:DAYLIGHT
TZOFFSETFROM:+0100
TZOFFSETTO:+0200
TZNAME:CEST
DTSTART:20260329T010000
END:DAYLIGHT
BEGIN:STANDARD
TZOFFSETFROM:+0200
TZOFFSETTO:+0100
TZNAME:CET
DTSTART:20261025T010000
END:STANDARD
BEGIN:DAYLIGHT
TZOFFSETFROM:+0100
TZOFFSETTO:+0200
TZNAME:CEST
DTSTART:20270328T010000
END:DAYLIGHT
BEGIN:STANDARD
TZOFFSETFROM:+0200
TZOFFSETTO:+0100
TZNAME:CET
DTSTART:20271031T010000
END:STANDARD
END:VTIMEZONE
BEGIN:VEVENT
DTSTART;TZID=Europe/Warsaw:20260323T170000
DTEND;TZID=Europe/Warsaw:20260323T170000
DTSTAMP:20260423T205839
CREATED:20260318T085644Z
LAST-MODIFIED:20260318T085644Z
UID:5021-1774285200-1774285200@fokus.media.pl
SUMMARY:Spotkanie autorskie z Sebastianem Graniczkowskim w dębickiej bibliotece
DESCRIPTION:Miejska i Powiatowa Biblioteka Publiczna w Dębicy zaprasza na spotkanie autorskie Sebastianem Graniczkowskim\, które odbędzie się 23 marca 2026 r. o godz. 17.00 w budynku biblioteki przy ul. Akademickiej 10.Wydarzenie połączone będzie z promocją książki „Dębicka prasa polityczna 1932–1936”. Podczas spotkania porozmawiamy nie tylko o samej publikacji\, ale także o kulisach jej powstawania – pracy z archiwalną prasą sprzed niemal stu lat\, odkrywaniu zapomnianych artykułów oraz o tym\, jak wygląda proces pisania książki historycznej.Publikacja jest rozwinięciem nagrodzonej pracy magisterskiej autora\, obronionej na Uniwersytecie Papieskim Jana Pawła II w Krakowie\, która otrzymała nagrodę Rektora uczelni za najlepszą pracę magisterską. Książka analizuje działalność lokalnych gazet z okresu II Rzeczypospolitej – „Echo znad Wisłoki”\, „Wiadomości Dębickie” oraz „Zwierciadło znad Wisłoki”\, ukazując ich rolę w życiu społecznym i politycznym międzywojennej Dębicy.
URL:https://fokus.media.pl/wydarzenie/spotkanie-autorskie-z-sebastianem-graniczkowskim-w-debickiej-bibliotece/
LOCATION:Miejska i Powiatowa Biblioteka Publiczna\, ul. Akademicka 10\, Dębica
END:VEVENT
BEGIN:VEVENT
DTSTART;TZID=Europe/Warsaw:20260319T170000
DTEND;TZID=Europe/Warsaw:20260319T180000
DTSTAMP:20260423T205839
CREATED:20260311T134942Z
LAST-MODIFIED:20260311T134942Z
UID:4934-1773939600-1773943200@fokus.media.pl
SUMMARY:Spotkanie autorskie z Wojciechem Malajkatem
DESCRIPTION:Wizycie artysty w Dębicy towarzyszyć będą także warsztaty teatralne dla młodzieży\, podczas których uczestnicy poznają podstawy pracy scenicznej\, interpretacji tekstu oraz ćwiczeń aktorskich rozwijających wyobraźnię i wrażliwość artystyczną. To okazja do bezpośredniego spotkania z mistrzem sceny i poznania kulis pracy aktora. \n\n\n\nMiejska i Powiatowa Biblioteka Publiczna w Dębicy zaprasza na spotkanie z jednym z najwybitniejszych polskich aktorów teatralnych i filmowych – Wojciech Malajkat.\n\n\nWojciech Malajkat to aktor\, reżyser i pedagog teatralny\, a obecnie dyrektor Teatr Współczesny w Warszawie. \n\n\n\nPubliczność doskonale pamięta jego role filmowe – m.in. Rzędziana w ekranizacji powieści Ogniem i mieczem czy Wojciecha Kamińskiego w popularnej serii Listy do M.. Sam artysta z charakterystycznym dystansem mówi o sobie\, że „w teatrze jest\, a w filmie bywa”\, jednak widzowie pokochali go zarówno za role sceniczne\, jak i filmowe.\n\n\nPodczas spotkania odbędzie się rozmowa o jego drodze artystycznej\, pracy aktora i reżysera\, o kulisach teatru oraz o dubbingu – wielu widzów doskonale kojarzy jego głos z postacią Kot w Butach. Nie zabraknie również wspomnień o mistrzach teatru\, w tym o legendarnym reżyserze Jerzy Grzegorzewski\, który odegrał ważną rolę w jego artystycznym rozwoju. \n\n\n\nProjekt realizowany jest w ramach programu „Kulturalny ORLEN” organizowanego przez Fundacja ORLEN im. Ignacego Łukasiewicza oraz ORLEN Art & Science
URL:https://fokus.media.pl/wydarzenie/spotkanie-autorskie-z-wojciechem-malajkatem/
LOCATION:Miejska i Powiatowa Biblioteka Publiczna\, ul. Akademicka 10\, Dębica
END:VEVENT
BEGIN:VEVENT
DTSTART;VALUE=DATE:20260309
DTEND;VALUE=DATE:20260310
DTSTAMP:20260423T205839
CREATED:20260305T120521Z
LAST-MODIFIED:20260305T120521Z
UID:4786-1773014400-1773100799@fokus.media.pl
SUMMARY:Dzień Kobiet z Urszulą Grabowską w Miejskiej i Powiatowej Bibliotece Publicznej w Dębicy
DESCRIPTION:Dzień Kobiet z Urszulą Grabowską to wydarzenie organizowane 9 marca w Miejskiej i Powiatowej Bibliotece Publicznej w Dębicy\, łączące spotkanie autorskie z programem kulturalnym skierowanym do mieszkańców miasta. \n9 marca o godz. 17.00 w Miejskiej i Powiatowej Bibliotece Publicznej w Dębicy przy ul. Akademickiej 10 odbędzie się spotkanie z aktorką teatralną i filmową Urszulą Grabowską. Wydarzenie realizowane w ramach obchodów Dnia Kobiet będzie okazją do rozmowy o teatrze\, filmie oraz kulisach pracy artystycznej. \nArtystka od lat związana jest z krakowskimi scenami – Teatr Bagatela oraz Teatr STU. Szerokiej publiczności znana jest z ról w produkcjach telewizyjnych i filmowych\, takich jak „Glina”\, „Na krawędzi”\, „Stulecie Winnych” oraz filmach „Joanna” i „Carte Blanche”. \nSpotkanie poprowadzi Andrzej Kurdziel. Wstęp na wydarzenie jest wolny. \nProgram obchodów Dnia Kobiet w bibliotece zaplanowano w godzinach od 9.00 do 16.30. W tym czasie uczestnicy będą mogli skorzystać z przygotowanej oferty kulturalnej\, obejmującej m.in. prezentację literatury poświęconej kobietom\, konkursy z nagrodami\, warsztaty tematyczne\, poczęstunek oraz zajęcia plastyczne dla dzieci w strefie Bibliolandii.
URL:https://fokus.media.pl/wydarzenie/dzien-kobiet-z-urszula-grabowska-w-miejskiej-i-powiatowej-bibliotece-publicznej-w-debicy/
LOCATION:Miejska i Powiatowa Biblioteka Publiczna\, ul. Akademicka 10\, Dębica
END:VEVENT
END:VCALENDAR