BEGIN:VCALENDAR
VERSION:2.0
PRODID:-//Fokus Media - ECPv6.15.20//NONSGML v1.0//EN
CALSCALE:GREGORIAN
METHOD:PUBLISH
X-WR-CALNAME:Fokus Media
X-ORIGINAL-URL:https://fokus.media.pl
X-WR-CALDESC:Wydarzenia dla Fokus Media
REFRESH-INTERVAL;VALUE=DURATION:PT1H
X-Robots-Tag:noindex
X-PUBLISHED-TTL:PT1H
BEGIN:VTIMEZONE
TZID:Europe/Warsaw
BEGIN:DAYLIGHT
TZOFFSETFROM:+0100
TZOFFSETTO:+0200
TZNAME:CEST
DTSTART:20250330T010000
END:DAYLIGHT
BEGIN:STANDARD
TZOFFSETFROM:+0200
TZOFFSETTO:+0100
TZNAME:CET
DTSTART:20251026T010000
END:STANDARD
BEGIN:DAYLIGHT
TZOFFSETFROM:+0100
TZOFFSETTO:+0200
TZNAME:CEST
DTSTART:20260329T010000
END:DAYLIGHT
BEGIN:STANDARD
TZOFFSETFROM:+0200
TZOFFSETTO:+0100
TZNAME:CET
DTSTART:20261025T010000
END:STANDARD
BEGIN:DAYLIGHT
TZOFFSETFROM:+0100
TZOFFSETTO:+0200
TZNAME:CEST
DTSTART:20270328T010000
END:DAYLIGHT
BEGIN:STANDARD
TZOFFSETFROM:+0200
TZOFFSETTO:+0100
TZNAME:CET
DTSTART:20271031T010000
END:STANDARD
END:VTIMEZONE
BEGIN:VEVENT
DTSTART;TZID=Europe/Warsaw:20260321T140000
DTEND;TZID=Europe/Warsaw:20260321T170000
DTSTAMP:20260424T005921
CREATED:20260311T134603Z
LAST-MODIFIED:20260311T134603Z
UID:4930-1774101600-1774112400@fokus.media.pl
SUMMARY:Wiosna w mieście! Piknik Rodzinny na powitanie słońca
DESCRIPTION:W programie: \n  \n\nTradycyjne topienie Marzanny – wyjątkową kukłę przygotują dla nas najmłodsi mieszkańcy Dębicy\nDzień Kolorowej Skarpetki – załóż dwie różne\, aby okazać wsparcie i solidarność!\nPilates pod chmurką z mięta.pilates – porcja wiosennej energii dla każdego\nWarsztaty rękodzieła przeprowadzi W Sieni – składzik u Ewy\nGrill dla mieszkańców zapewni Catering Staf B.Filipek\nAnimacje dla dzieci poprowadzi FUN&SPORT\nStrefa wystawców z lokalnymi pysznościami: Sernik w koronce | Cukiernia Maestro Tomasz Podkul Chocolatier | | Juicy Boba Dębica | CHOCO BERRY by Edyta\n\n21 marca\, start 14:00\nWały nas Wisłoką \nLink do wydarzenia\n 
URL:https://fokus.media.pl/wydarzenie/wiosna-w-miescie-piknik-rodzinny-na-powitanie-slonca/
END:VEVENT
END:VCALENDAR