BEGIN:VCALENDAR
VERSION:2.0
PRODID:-//Fokus Media - ECPv6.15.20//NONSGML v1.0//EN
CALSCALE:GREGORIAN
METHOD:PUBLISH
X-WR-CALNAME:Fokus Media
X-ORIGINAL-URL:https://fokus.media.pl
X-WR-CALDESC:Wydarzenia dla Fokus Media
REFRESH-INTERVAL;VALUE=DURATION:PT1H
X-Robots-Tag:noindex
X-PUBLISHED-TTL:PT1H
BEGIN:VTIMEZONE
TZID:Europe/Warsaw
BEGIN:DAYLIGHT
TZOFFSETFROM:+0100
TZOFFSETTO:+0200
TZNAME:CEST
DTSTART:20250330T010000
END:DAYLIGHT
BEGIN:STANDARD
TZOFFSETFROM:+0200
TZOFFSETTO:+0100
TZNAME:CET
DTSTART:20251026T010000
END:STANDARD
BEGIN:DAYLIGHT
TZOFFSETFROM:+0100
TZOFFSETTO:+0200
TZNAME:CEST
DTSTART:20260329T010000
END:DAYLIGHT
BEGIN:STANDARD
TZOFFSETFROM:+0200
TZOFFSETTO:+0100
TZNAME:CET
DTSTART:20261025T010000
END:STANDARD
BEGIN:DAYLIGHT
TZOFFSETFROM:+0100
TZOFFSETTO:+0200
TZNAME:CEST
DTSTART:20270328T010000
END:DAYLIGHT
BEGIN:STANDARD
TZOFFSETFROM:+0200
TZOFFSETTO:+0100
TZNAME:CET
DTSTART:20271031T010000
END:STANDARD
END:VTIMEZONE
BEGIN:VEVENT
DTSTART;TZID=Europe/Warsaw:20260222T183000
DTEND;TZID=Europe/Warsaw:20260222T183000
DTSTAMP:20260424T021606
CREATED:20260220T084840Z
LAST-MODIFIED:20260220T085614Z
UID:4522-1771785000-1771785000@fokus.media.pl
SUMMARY:JAVVA (+ Supervoid Messengers) – koncert w Rzeszowskich Piwnicach
DESCRIPTION:22 lutego 2026 roku (niedziela) o godzinie 19:00 w Rzeszowskich Piwnicach wystąpi JAVVA\, jeden z najbardziej intrygujących zespołów polskiej sceny niezależnej. Wieczór otworzy rzeszowski zespół Supervoid Messengers. \nJAVVA to pięciu przyjaciół i doświadczonych muzyków od lat aktywnych na polskiej scenie alternatywnej. Zespół tworzą: Piotr Bukowski (gitara)\, Łukasz Twix Jędrzejczak (wokal\, elektronika)\, Bartek Kapsa (perkusja)\, Maciej Moruś (perkusja\, elektronika) oraz Jasiek Wroński (bas\, wokal). Muzycy znani są również z działalności w takich formacjach jak Mitch & Mitch\, Contemporary Noise Quintet\, Alameda\, T’ien Lai czy Something Like Elvis. \nPo dobrze przyjętym debiucie Balance of Decay zespół powrócił z drugim albumem Pícaros\, wydanym przez Mystic Production. To energetyczna\, taneczna muzyka gitarowa z wyrazistymi wokalami\, wzbogacona samplami i syntezatorami. JAVVA swobodnie sięga po inspiracje z różnych tradycji muzycznych świata\, tworząc żywiołową i nieoczywistą mieszankę brzmień. Tytuł płyty nawiązuje do idei współczesnego włóczęgostwa i wykorzenienia – kulturowego\, społecznego i artystycznego. \nJako goście specjalni wystąpią Supervoid Messengers – zespół działający od 2017 roku\, opierający swoją muzykę na mocnej sekcji rytmicznej\, dwóch gitarach elektrycznych i samplerze. Ich brzmienie oscyluje wokół post-metalu\, momentami przybierając transowy charakter z wyraźnymi elementami noise rocka. \n \nInformacje organizacyjne: \n\nData: 22 lutego 2026 r. (niedziela)\nGodzina: 19:00\nMiejsce: Rzeszowskie Piwnice\nOtwarcie bramek: 18:30\nForma wydarzenia: koncert stojący\nSzatnia: płatna\, 5 zł\n\nBilety: \n\n59 zł – przedsprzedaż\n69 zł – w dniu koncertu\nZ Rzeszowską Kartą Mieszkańca: 10% zniżki przy zakupie w kasach stacjonarnych\n\nDostępność:\nPrzestrzeń dostępna architektonicznie\, winda po lewej stronie drzwi wejściowych\, toaleta przystosowana do potrzeb osób z niepełnosprawnościami.\nBilety można zakupić na stronie internetowej: www.rzeszowskiepiwnice.pl oraz stacjonarnie w kasach Rzeszowskich Piwnic. \n 
URL:https://fokus.media.pl/wydarzenie/javva-supervoid-messengers-koncert-w-rzeszowskich-piwnicach/
LOCATION:Rzeszowskie Piwnice\, Rynek 26\, Rzeszów
END:VEVENT
END:VCALENDAR