BEGIN:VCALENDAR
VERSION:2.0
PRODID:-//Fokus Media - ECPv6.15.20//NONSGML v1.0//EN
CALSCALE:GREGORIAN
METHOD:PUBLISH
X-ORIGINAL-URL:https://fokus.media.pl
X-WR-CALDESC:Wydarzenia dla Fokus Media
REFRESH-INTERVAL;VALUE=DURATION:PT1H
X-Robots-Tag:noindex
X-PUBLISHED-TTL:PT1H
BEGIN:VTIMEZONE
TZID:Europe/Warsaw
BEGIN:DAYLIGHT
TZOFFSETFROM:+0100
TZOFFSETTO:+0200
TZNAME:CEST
DTSTART:20250330T010000
END:DAYLIGHT
BEGIN:STANDARD
TZOFFSETFROM:+0200
TZOFFSETTO:+0100
TZNAME:CET
DTSTART:20251026T010000
END:STANDARD
BEGIN:DAYLIGHT
TZOFFSETFROM:+0100
TZOFFSETTO:+0200
TZNAME:CEST
DTSTART:20260329T010000
END:DAYLIGHT
BEGIN:STANDARD
TZOFFSETFROM:+0200
TZOFFSETTO:+0100
TZNAME:CET
DTSTART:20261025T010000
END:STANDARD
BEGIN:DAYLIGHT
TZOFFSETFROM:+0100
TZOFFSETTO:+0200
TZNAME:CEST
DTSTART:20270328T010000
END:DAYLIGHT
BEGIN:STANDARD
TZOFFSETFROM:+0200
TZOFFSETTO:+0100
TZNAME:CET
DTSTART:20271031T010000
END:STANDARD
END:VTIMEZONE
BEGIN:VEVENT
DTSTART;TZID=Europe/Warsaw:20260220T163000
DTEND;TZID=Europe/Warsaw:20260220T173000
DTSTAMP:20260423T233626
CREATED:20260216T131414Z
LAST-MODIFIED:20260216T133330Z
UID:4362-1771605000-1771608600@fokus.media.pl
SUMMARY:Prelekcja dr Joanny Czerkies pt. „Językowy savoir-vivre w praktyce codziennej komunikacji”
DESCRIPTION:Wojewódzka i Miejska Biblioteka Publiczna w Rzeszowie zaprasza na prelekcję dr Joanny Czerkies pt. „Językowy savoir-vivre w praktyce codziennej komunikacji”\, która odbędzie się 20 lutego 2025 r. o godz. 16.30 w Wypożyczalni Głównej\, ul. Dąbrowskiego 33A. Wstęp wolny. \nSpotkanie zorganizowane z okazji Międzynarodowego Dnia Języka Ojczystego. Joanna Czerkies – doktor nauk humanistycznych w zakresie językoznawstwa\, adiunkt na Uniwersytecie Rzeszowskim w Zakładzie Lingwistyki Kulturowej i Komunikacji Społecznej. Jej zainteresowania badawcze obejmują język polityki i reklamy\, uniwersalne mechanizmy perswazji\, manipulacji i propagandy\, zmiany we współczesnej leksyce oraz zagadnienia związane z poprawnością językową. Jest członkinią Oddziału Rzeszowskiego Towarzystwa Miłośników Języka Polskiego.
URL:https://fokus.media.pl/wydarzenie/prelekcja-dr-joanny-czerkies-pt-jezykowy-savoir-vivre-w-praktyce-codziennej-komunikacji/
LOCATION:Wojewódzka i Miejska Biblioteka Publiczna\, Wypożyczalnia Główna\, ul. Dąbrowskiego 33A\, Rzeszów
END:VEVENT
END:VCALENDAR