BEGIN:VCALENDAR
VERSION:2.0
PRODID:-//Fokus Media - ECPv6.15.20//NONSGML v1.0//EN
CALSCALE:GREGORIAN
METHOD:PUBLISH
X-ORIGINAL-URL:https://fokus.media.pl
X-WR-CALDESC:Wydarzenia dla Fokus Media
REFRESH-INTERVAL;VALUE=DURATION:PT1H
X-Robots-Tag:noindex
X-PUBLISHED-TTL:PT1H
BEGIN:VTIMEZONE
TZID:Europe/Warsaw
BEGIN:DAYLIGHT
TZOFFSETFROM:+0100
TZOFFSETTO:+0200
TZNAME:CEST
DTSTART:20250330T010000
END:DAYLIGHT
BEGIN:STANDARD
TZOFFSETFROM:+0200
TZOFFSETTO:+0100
TZNAME:CET
DTSTART:20251026T010000
END:STANDARD
BEGIN:DAYLIGHT
TZOFFSETFROM:+0100
TZOFFSETTO:+0200
TZNAME:CEST
DTSTART:20260329T010000
END:DAYLIGHT
BEGIN:STANDARD
TZOFFSETFROM:+0200
TZOFFSETTO:+0100
TZNAME:CET
DTSTART:20261025T010000
END:STANDARD
BEGIN:DAYLIGHT
TZOFFSETFROM:+0100
TZOFFSETTO:+0200
TZNAME:CEST
DTSTART:20270328T010000
END:DAYLIGHT
BEGIN:STANDARD
TZOFFSETFROM:+0200
TZOFFSETTO:+0100
TZNAME:CET
DTSTART:20271031T010000
END:STANDARD
END:VTIMEZONE
BEGIN:VEVENT
DTSTART;TZID=Europe/Warsaw:20260312T160000
DTEND;TZID=Europe/Warsaw:20260312T170000
DTSTAMP:20260423T233432
CREATED:20260225T140318Z
LAST-MODIFIED:20260225T140337Z
UID:4661-1773331200-1773334800@fokus.media.pl
SUMMARY:Spotkanie autorskie z Arturem Getlerem – „Dębickie skrzydła”
DESCRIPTION:Serdecznie zapraszamy na spotkanie autorskie z Arturem Getlerem\, współautorem książki „Dębickie skrzydła”.\n\n\nTo wyjątkowa publikacja popularyzująca historię lotnictwa\, w której znajdziemy m.in.:\n– informacje o przedwojennym lotnisku w Dębicy\,\n– rys historyczny dziejów lotnictwa polskiego do początku lat 50. XX wieku\,\n– biogramy ponad 30 osób związanych z ziemią dębicką\, których losy splotły się z historią awiacji – nie tylko polskiej\,\n– dramatyczne powojenne historie\, m.in. o amerykańskim bombowcu zestrzelonym nad Dębicą czy tragicznej próbie ucieczki przed komunistycznym reżimem.\n\n\nCałość wzbogacona jest licznymi fotografiami – to prawdziwa gratka dla miłośników lotnictwa i pasjonatów historii regionalnej.\n\n\nKsiążka stanowi zwieńczenie kilkuletnich badań i poszukiwań\, których efektem były również wystawa czasowa oraz cykl zajęć edukacyjnych.\n\n\nPodczas spotkania będzie okazja porozmawiać z autorem o kulisach pracy badawczej\, odkrywaniu archiwalnych materiałów i procesie powstawania publikacji.\n\n\n Po wydarzeniu będzie możliwość zakupu książki oraz zdobycia autografu autora.
URL:https://fokus.media.pl/wydarzenie/spotkanie-autorskie-z-arturem-getlerem-debickie-skrzydla/
LOCATION:Dom Kultury w Pustkowie-Osiedlu\, ul. Pustków-Osiedle 26A
END:VEVENT
END:VCALENDAR