BEGIN:VCALENDAR
VERSION:2.0
PRODID:-//Fokus Media - ECPv6.15.20//NONSGML v1.0//EN
CALSCALE:GREGORIAN
METHOD:PUBLISH
X-ORIGINAL-URL:https://fokus.media.pl
X-WR-CALDESC:Wydarzenia dla Fokus Media
REFRESH-INTERVAL;VALUE=DURATION:PT1H
X-Robots-Tag:noindex
X-PUBLISHED-TTL:PT1H
BEGIN:VTIMEZONE
TZID:Europe/Warsaw
BEGIN:DAYLIGHT
TZOFFSETFROM:+0100
TZOFFSETTO:+0200
TZNAME:CEST
DTSTART:20250330T010000
END:DAYLIGHT
BEGIN:STANDARD
TZOFFSETFROM:+0200
TZOFFSETTO:+0100
TZNAME:CET
DTSTART:20251026T010000
END:STANDARD
BEGIN:DAYLIGHT
TZOFFSETFROM:+0100
TZOFFSETTO:+0200
TZNAME:CEST
DTSTART:20260329T010000
END:DAYLIGHT
BEGIN:STANDARD
TZOFFSETFROM:+0200
TZOFFSETTO:+0100
TZNAME:CET
DTSTART:20261025T010000
END:STANDARD
BEGIN:DAYLIGHT
TZOFFSETFROM:+0100
TZOFFSETTO:+0200
TZNAME:CEST
DTSTART:20270328T010000
END:DAYLIGHT
BEGIN:STANDARD
TZOFFSETFROM:+0200
TZOFFSETTO:+0100
TZNAME:CET
DTSTART:20271031T010000
END:STANDARD
END:VTIMEZONE
BEGIN:VEVENT
DTSTART;TZID=Europe/Warsaw:20260307T171700
DTEND;TZID=Europe/Warsaw:20260307T171700
DTSTAMP:20260423T234908
CREATED:20260218T081204Z
LAST-MODIFIED:20260218T081438Z
UID:4468-1772903820-1772903820@fokus.media.pl
SUMMARY:Drugie spotkanie Klubu Nieodkrytych Literatów i Poetów "Między myślą a sercem"
DESCRIPTION:Zapraszamy na kolejne\, kameralne spotkanie ludzi\, dla których słowo ma znaczenie.„Między myślą a sercem – literacka Sień” tam\, gdzie poezja nie jest deklaracją\, lecz czułością i uważnością.‎‎Wieczór poświęcony będzie twórczości Zbigniewa Herberta oraz Marii Pawlikowskiej-Jasnorzewskiej.‎Dwóm różnym głosom\, które spotykają się w jednym miejscu: w potrzebie prawdy\, wrażliwości i sensu.‎‎To przestrzeń: – dla literatów i poetów (również tych piszących nieśmiało)\,‎– dla osób\, które chcą słuchać\,‎– i dla tych\, którzy czują\, że poezja wciąż potrafi zatrzymać czas. \nSpotkajmy się przy słowie\, które zostaje na dłużej. \n‎‎Liczba miejsc ograniczona.‎Patronat medialny Fokus Media.‎‎
URL:https://fokus.media.pl/wydarzenie/drugie-spotkanie-klubu-nieodkrytych-literatow-i-poetow-miedzy-mysla-a-sercem-literacka-sien/
LOCATION:Galeria i Butik „W Sieni. Składzik u Ewy”\, ul. Krakowska 75\, Dębica
END:VEVENT
END:VCALENDAR