BEGIN:VCALENDAR
VERSION:2.0
PRODID:-//Fokus Media - ECPv6.15.20//NONSGML v1.0//EN
CALSCALE:GREGORIAN
METHOD:PUBLISH
X-ORIGINAL-URL:https://fokus.media.pl
X-WR-CALDESC:Wydarzenia dla Fokus Media
REFRESH-INTERVAL;VALUE=DURATION:PT1H
X-Robots-Tag:noindex
X-PUBLISHED-TTL:PT1H
BEGIN:VTIMEZONE
TZID:Europe/Warsaw
BEGIN:DAYLIGHT
TZOFFSETFROM:+0100
TZOFFSETTO:+0200
TZNAME:CEST
DTSTART:20250330T010000
END:DAYLIGHT
BEGIN:STANDARD
TZOFFSETFROM:+0200
TZOFFSETTO:+0100
TZNAME:CET
DTSTART:20251026T010000
END:STANDARD
BEGIN:DAYLIGHT
TZOFFSETFROM:+0100
TZOFFSETTO:+0200
TZNAME:CEST
DTSTART:20260329T010000
END:DAYLIGHT
BEGIN:STANDARD
TZOFFSETFROM:+0200
TZOFFSETTO:+0100
TZNAME:CET
DTSTART:20261025T010000
END:STANDARD
BEGIN:DAYLIGHT
TZOFFSETFROM:+0100
TZOFFSETTO:+0200
TZNAME:CEST
DTSTART:20270328T010000
END:DAYLIGHT
BEGIN:STANDARD
TZOFFSETFROM:+0200
TZOFFSETTO:+0100
TZNAME:CET
DTSTART:20271031T010000
END:STANDARD
END:VTIMEZONE
BEGIN:VEVENT
DTSTART;TZID=Europe/Warsaw:20260326T170000
DTEND;TZID=Europe/Warsaw:20260326T170000
DTSTAMP:20260423T234908
CREATED:20260320T172016Z
LAST-MODIFIED:20260320T172016Z
UID:5071-1774544400-1774544400@fokus.media.pl
SUMMARY:Wszystkie drogi prowadzą do Rzeszowa - spotkanie z Jakubem Pawłowskim
DESCRIPTION:Wojewódzka i Miejska Biblioteka Publiczna w Rzeszowie zaprasza na spotkanie z Jakubem Pawłowskim – historykiem\, regionalistą\, przewodnikiem\, pt. „Wszystkie drogi prowadzą do Rzeszowa. Trakty\, drogi i gościńce miasta”\, które odbędzie się 26 marca 2026 r. o godz. 17.00 w Bibliotece przy ulicy Sokoła 13 w Rzeszowie. \nCharakterystyczne położenie miasta na krzyżujących się szlakach komunikacyjnych doprowadziło do ukształtowania się specyfiki ośrodka\, jego znaczenia i funkcji przez setki lat. Jak\, skąd i gdzie przebiegały główne trakty komunikacyjne? Jaka była ich funkcja? Czy dziś widzimy ich ślady we współczesnym Rzeszowie? To tylko część pytań\, na które nasz gość odpowie podczas prelekcji. \nKim jest Jakub Pawłowski  \nJakub Pawłowski – historyk\, regionalista\, popularyzator wiedzy o Rzeszowie\, przewodnik\, dziennikarz\, recenzent książek. Zaangażowany w działalność rzeszowskiej Społecznej Rady Kultury i Polskiego Towarzystwa Ludoznawczego z oddziałem w Rzeszowie. Współpracownik kilku redakcji: „Nowiny”\, „Gazeta Wyborcza”\, „Podkarpacka Historia” i Onet. Pracował w Muzeum Regionalnym w Sołonce\, gdzie współtworzył stałą ekspozycję muzealną i ofertę edukacyjną\, w Muzeum Polaków Ratujących Żydów w Markowej\, gdzie oprowadzał po stałej ekspozycji\, współtworzył czasowe wystawy i ofertę edukacyjną. Obecnie pracownik Estrady Rzeszowskiej i Rzeszowskich Piwnic\, w których zajmuje się stroną merytoryczną i organizowaniem m.in. spacerów miejskich. \nfot. materiały nadesłane
URL:https://fokus.media.pl/wydarzenie/wszystkie-drogi-prowadza-do-rzeszowa-spotkanie-z-jakubem-pawlowskim/
LOCATION:Wojewódzka i Miejska Biblioteka\, Sokoła 13\, Rzeszów
END:VEVENT
END:VCALENDAR