BEGIN:VCALENDAR
VERSION:2.0
PRODID:-//Fokus Media - ECPv6.15.20//NONSGML v1.0//EN
CALSCALE:GREGORIAN
METHOD:PUBLISH
X-ORIGINAL-URL:https://fokus.media.pl
X-WR-CALDESC:Wydarzenia dla Fokus Media
REFRESH-INTERVAL;VALUE=DURATION:PT1H
X-Robots-Tag:noindex
X-PUBLISHED-TTL:PT1H
BEGIN:VTIMEZONE
TZID:Europe/Warsaw
BEGIN:DAYLIGHT
TZOFFSETFROM:+0100
TZOFFSETTO:+0200
TZNAME:CEST
DTSTART:20250330T010000
END:DAYLIGHT
BEGIN:STANDARD
TZOFFSETFROM:+0200
TZOFFSETTO:+0100
TZNAME:CET
DTSTART:20251026T010000
END:STANDARD
BEGIN:DAYLIGHT
TZOFFSETFROM:+0100
TZOFFSETTO:+0200
TZNAME:CEST
DTSTART:20260329T010000
END:DAYLIGHT
BEGIN:STANDARD
TZOFFSETFROM:+0200
TZOFFSETTO:+0100
TZNAME:CET
DTSTART:20261025T010000
END:STANDARD
BEGIN:DAYLIGHT
TZOFFSETFROM:+0100
TZOFFSETTO:+0200
TZNAME:CEST
DTSTART:20270328T010000
END:DAYLIGHT
BEGIN:STANDARD
TZOFFSETFROM:+0200
TZOFFSETTO:+0100
TZNAME:CET
DTSTART:20271031T010000
END:STANDARD
END:VTIMEZONE
BEGIN:VEVENT
DTSTART;TZID=Europe/Warsaw:20260327T100000
DTEND;TZID=Europe/Warsaw:20260330T190000
DTSTAMP:20260423T223728
CREATED:20260318T090242Z
LAST-MODIFIED:20260318T090242Z
UID:5024-1774605600-1774897200@fokus.media.pl
SUMMARY:Międzynarodowy Dzień Teatru 2026 w Dębicy
DESCRIPTION:Jak co roku w marcu mieszkańcy zaproszeni zostają do wspólnego celebrowania Międzynarodowego Dnia Teatru\, który przypada na 27 marca. Z tej okazji przygotowano bogaty program wydarzeń obejmujący premierowe spektakle i widowiska w wykonaniu członków oraz absolwentów grup artystycznych\, a także zaproszonych gości. \nObchody rozpoczną się 27 marca barwnym korowodem. O godz. 10:00 uczestnicy zajęć teatralnych\, ich absolwenci oraz uczniowie dębickich szkół podstawowych spotkają się w parku przy Domu Kultury „Śnieżka”\, skąd wyruszą ulicami miasta w kierunku Rynku. Uczestnicy wcielą się w postacie z bajek\, filmów i literatury\, a także bohaterów własnej wyobraźni. Na Rynku zaplanowano animacje dla dzieci oraz koncert piosenek bajkowych w wykonaniu uczestniczek Warsztatu Dźwięku i Słowa. \nTego samego dnia o godz. 19:00 w Domu Kultury „Mors” odbędzie się premiera musicalu „Nasz głos” w wykonaniu uczennic Warsztatu Dźwięku i Słowa. Spektakl porusza tematykę szkolnej codzienności\, relacji rówieśniczych oraz problemu hejtu\, ukazując wyzwania\, z jakimi mierzą się młodzi ludzie. \nW sobotę 28 marca o godz. 16:00 na scenie Domu Kultury „Śnieżka” zaprezentują się najmłodsze grupy teatralne. Dziecięcy Teatr „Mini Fantazja” przedstawi „Przygody Pchły Szachrajki” na podstawie utworu Jana Brzechwy\, natomiast Dziecięcy Teatr „Fantazja” zaprosi widzów na spektakl „Królewna Śpioszka” – opowieść o przyjaźni\, współdziałaniu i odkrywaniu świata. \nW niedzielę 29 marca o godz. 16:00 wystąpią zespoły młodzieżowe. Grupa Wyindywidualizowani zaprezentuje spektakl „Za drzwiami”\, podejmujący temat dojrzewania\, emocji i relacji rówieśniczych. Z kolei Młodzieżowy Teatr Małych Form „ferment” pokaże przedstawienie „Czas start”\, które w refleksyjny sposób odnosi się do współczesnych wyzwań i poszukiwania własnej tożsamości. \nZwieńczeniem obchodów będzie koncert finałowy „Miał być ślub”\, który odbędzie się 30 marca o godz. 19:00 w Domu Kultury „Mors”. Na scenie wystąpią uczennice Warsztatu Dźwięku i Słowa\, grupa T.Lab oraz członkowie i absolwenci Grupy Artystycznej „Safo”. Wydarzenie połączy elementy muzyki popularnej i współczesnej prozy\, tworząc opowieść o miłości\, zmieniających się wartościach i tradycjach. \nWstęp na wydarzenia odbywające się w dniach 27–29 marca możliwy będzie za okazaniem bezpłatnych wejściówek dostępnych w kasie DKiK „Śnieżka”. Bilety na koncert finałowy 30 marca dostępne są na stronie bilety.mokdebica.pl. \n \nProgram wydarzeń: \n27 marca | godz. 10:00 | Park przy DK „Śnieżka” – Rynek\nTeatralny Korowód \n27 marca | godz. 19:00 | DK „Mors”\n„Nasz głos” – Warsztat Dźwięku i Słowa \n28 marca | godz. 16:00 | DK „Śnieżka”\n„Przygody Pchły Szachrajki” – Dziecięcy Teatr Mini Fantazja\n„Królewna Śpioszka” – Dziecięcy Teatr Fantazja \n29 marca | godz. 16:00 | DK „Śnieżka”\n„Za drzwiami” – Wyindywidualizowani\n„Czas start” – Młodzieżowy Teatr Małych Form „ferment” \n30 marca | godz. 19:00 | DK „Mors”\n„Miał być ślub” – koncert finałowy MDT
URL:https://fokus.media.pl/wydarzenie/miedzynarodowy-dzien-teatru-2026-w-debicy/
LOCATION:Miejski Ośrodek Kultury w Dębicy\, ul. Sportowa 28\, Dębica
END:VEVENT
BEGIN:VEVENT
DTSTART;TZID=Europe/Warsaw:20260325T190000
DTEND;TZID=Europe/Warsaw:20260325T201000
DTSTAMP:20260423T223728
CREATED:20260216T132302Z
LAST-MODIFIED:20260216T132302Z
UID:4369-1774465200-1774469400@fokus.media.pl
SUMMARY:Teatr Klasyki Polskiej ze spektaklem "Król i caryca"
DESCRIPTION:Teatr Klasyki Polskiej już niedługo zagości w Domu Kultury „MORS” w Dębicy ze spektaklem „Król i caryca”. \n \nRomans ostatniego polskiego króla z carycą Katarzyną Wielką nie był tajemnicą. To właśnie rosyjskiej władczyni monarcha zawdzięczał objęcie tronu w Warszawie. Spektakl „Król i caryca” w reżyserii Jerzego Zelnika powstał na podstawie wyboru korespondencji carycy Katarzyny i króla Stanisława Augusta. \nW 1755 roku przybył do Petersburga sekretarz angielskiego posła\, młody polski arystokrata\, Stanisław Antoni Poniatowski. Zwrócił na siebie uwagę Katarzyny\, sam tracąc dla niej głowę. Jej mąż\, Piotr\, odkrył romans. Zareagował gniewem\, ale szybko go opanował. Sam zresztą miał na koncie pozamałżeńskie związki. Pobłogosławił więc szczęściu kochanków. W lipcu 1762 roku przyszło mu umrzeć. Na polecenie żony zresztą\, która kazała go zamordować. Dwa lata później\, już jako caryca\, Katarzyna czyni Stanisława Poniatowskiego władcą Polski. Po kolejnych trzydziestu jeden latach pozbawia go natomiast nie tyle tronu\, co królestwa\, doprowadzając do trzeciego rozbioru Rzeczypospolitej. \nTwórcy ukazują psychologiczny i emocjonalny portret króla i carycy – byłych kochanków\, którzy pod płaszczykiem utrzymywanych ciągle siostrzano-braterskich relacji\, prowadzą dyplomatyczną wojnę o sprzeczne narodowe dążenia i cele. \nEchu dawnej namiętności zdarza się jeszcze niekiedy wybrzmiewać między wierszami listów obojga władców. To jednak brutalny\, niekierujący się żadnym sentymentem\, polityczny interes jest właściwą treścią tej korespondencji. Dlatego stanowi ona niezwykły materiał dla aktorów. W spektaklu Teatru Klasyki Polskiej wydobędą oni całą złożoność stosunków łączących Stanisława Augusta z Katarzyną II\, a układających się w dramatyczny splot tęsknoty\, nadziei\, strachu\, pogardy i chłodnej kalkulacji. „Król i caryca” odsłoni kulisy wydarzeń\, które doprowadziły do zniknięcia Rzeczypospolitej z mapy Europy na ponad sto dwadzieścia lat. \nW rolach głównych Halina Rowicka i Jerzy Zelnik. \nCzas trwania: 1h 10′ \n\n  \n\nBILETY:https://teatrklasykipolskiej.bilety24.pl/kup-bilety/?id=869035#total \nBilety dla grup zorganizowanych powyżej 10 osób do nabycia po kontakcie z biurem obsługi widza \nJudyta.malarz@teatrklasykipolskiej.pl \ntel: 889 050 515 \n___________________________________________ \nO spektaklu – https://www.youtube.com/watch?v=Pzj7S6wQi_M
URL:https://fokus.media.pl/wydarzenie/teatr-klasyki-polskiej-ze-spektaklem-krol-i-caryca/
LOCATION:Dom Kultury „Mors”\, ul. Sportowa 28\, Dębica
END:VEVENT
BEGIN:VEVENT
DTSTART;TZID=Europe/Warsaw:20260308T170000
DTEND;TZID=Europe/Warsaw:20260308T170000
DTSTAMP:20260423T223728
CREATED:20260303T104006Z
LAST-MODIFIED:20260303T104006Z
UID:4751-1772989200-1772989200@fokus.media.pl
SUMMARY:„Kultura jest kobietą” - spotkanie autorskie oraz spektakl z okazji Dnia Kobiet
DESCRIPTION:8 marca 2026 r. w Wojewódzkim Domu Kultury w Rzeszowie odbędzie się wydarzenie pod hasłem „Kultura jest kobietą”\, przygotowane z okazji Dnia Kobiet.\nTo spotkanie połączy literaturę i teatr\, tworząc przestrzeń do rozmowy\, refleksji i wspólnego przeżywania kultury w kobiecej perspektywie. \nW programie spotkanie z pisarkami Magdaleną Pocałuń-Dydycz oraz Moniką Maciewicz. \nRozmowę z zaproszonymi autorkami poprowadzi Alina Bosak. To spotkanie stanie się przestrzenią do wsłuchania się w osobiste historie o inspiracjach płynących z Bieszczad\, Rzeszowa i Przemyśla\, o drodze twórczej kobiet i o ich głosie w świecie literatury. \n \nSpektakl teatralny (sztuka przeznaczona dla osób dorosłych) \nW drugiej części wydarzenia zaprezentowany zostanie spektakl „Księżniczka na opak wywrócona” w wykonaniu Teatru Rozmaitości SKC im. Stefana Ostrowskiego – to barokowa komedia Pedro Calderóna de la Barca – pełna intryg\, miłosnych perypetii i zaskakujących zwrotów akcji. W świecie zamian ról i dworskich gier nic nie jest takie\, jak się wydaje. To błyskotliwa opowieść o uczuciach\, pozorach i przewrotnym losie\, który potrafi wywrócić wszystko… na opak. \nWejściówki\nBezpłatne wejściówki dostępne są:\n– w portierni Wojewódzkiego Domu Kultury w Rzeszowie\,\n– online na stronie: bilety.kulturapodkarpacka.pl
URL:https://fokus.media.pl/wydarzenie/kultura-jest-kobieta-spotkanie-autorskie-oraz-spektakl-z-okazji-dnia-kobiet/
LOCATION:Wojewódzki Dom Kultury\, sala widowiskowa\, ul. Okrzei 7\, Rzeszów
END:VEVENT
BEGIN:VEVENT
DTSTART;TZID=Europe/Warsaw:20260222T170000
DTEND;TZID=Europe/Warsaw:20260222T170000
DTSTAMP:20260423T223728
CREATED:20260218T072123Z
LAST-MODIFIED:20260218T072123Z
UID:4457-1771779600-1771779600@fokus.media.pl
SUMMARY:Spektakl teatralny "Moralność Pani Dulskiej"
DESCRIPTION:Teatr działający przy Centrum Kultury i Promocji Gminy Pilzno serdecznie zaprasza na wyjątkowe przedstawienie teatralne.\n\n\nNa scenie zobaczymy spektakl pt. „Moralność Pani Dulskiej” w reżyserii Pana Pawła Gładysia – prowadzącego grupę teatralną.\n\n\n\n„Moralność pani Dulskiej” Gabrieli Zapolskiej to ponadczasowa komedia ukazująca obłudę i podwójną moralność mieszczaństwa. Tytułowa bohaterka dba przede wszystkim o pozory i dobre imię rodziny\, przymykając oczy na niewygodną prawdę. To sztuka pełna humoru\, ironii i trafnych obserwacji.\n\n\n\n\n\n\nZapraszamy do wspólnego spędzenia wieczoru z teatrem – gwarantujemy emocje\, refleksję i świetną atmosferę!
URL:https://fokus.media.pl/wydarzenie/spektakl-teatralny-moralnosc-pani-dulskiej/
LOCATION:Centrum Kultury i Promocji Gminy Pilzno\, ul. Węgierska 30\, Pilzno
END:VEVENT
END:VCALENDAR