BEGIN:VCALENDAR
VERSION:2.0
PRODID:-//Fokus Media - ECPv6.15.20//NONSGML v1.0//EN
CALSCALE:GREGORIAN
METHOD:PUBLISH
X-WR-CALNAME:Fokus Media
X-ORIGINAL-URL:https://fokus.media.pl
X-WR-CALDESC:Wydarzenia dla Fokus Media
REFRESH-INTERVAL;VALUE=DURATION:PT1H
X-Robots-Tag:noindex
X-PUBLISHED-TTL:PT1H
BEGIN:VTIMEZONE
TZID:Europe/Warsaw
BEGIN:DAYLIGHT
TZOFFSETFROM:+0100
TZOFFSETTO:+0200
TZNAME:CEST
DTSTART:20250330T010000
END:DAYLIGHT
BEGIN:STANDARD
TZOFFSETFROM:+0200
TZOFFSETTO:+0100
TZNAME:CET
DTSTART:20251026T010000
END:STANDARD
BEGIN:DAYLIGHT
TZOFFSETFROM:+0100
TZOFFSETTO:+0200
TZNAME:CEST
DTSTART:20260329T010000
END:DAYLIGHT
BEGIN:STANDARD
TZOFFSETFROM:+0200
TZOFFSETTO:+0100
TZNAME:CET
DTSTART:20261025T010000
END:STANDARD
BEGIN:DAYLIGHT
TZOFFSETFROM:+0100
TZOFFSETTO:+0200
TZNAME:CEST
DTSTART:20270328T010000
END:DAYLIGHT
BEGIN:STANDARD
TZOFFSETFROM:+0200
TZOFFSETTO:+0100
TZNAME:CET
DTSTART:20271031T010000
END:STANDARD
END:VTIMEZONE
BEGIN:VEVENT
DTSTART;TZID=Europe/Warsaw:20260324T100000
DTEND;TZID=Europe/Warsaw:20260326T160000
DTSTAMP:20260424T182642
CREATED:20260216T134719Z
LAST-MODIFIED:20260216T134719Z
UID:4387-1774346400-1774540800@fokus.media.pl
SUMMARY:Studenckie Targi Pracy SGH 2026
DESCRIPTION:Szukasz stażu\, pierwszej pracy\, a może chcesz się zorientować jak wygląda rynek pracy? Już niedługo Aula Spadochronowa wypełni się możliwościami\, których nie możesz przegapić! Niezależnie od tego\, czy jesteś na pierwszym roku\, czy właśnie kończysz magisterkę\, Studenckie Targi Pracy to miejsce dla każdego studenta.\n\n\nCo na Ciebie czeka?\n– Wioska Targowa: Spotkaj się twarzą w twarz z przedstawicielami topowych firm\, poznaj kulturę organizacji od środka i zapytaj o to\, czego nie znajdziesz w ogłoszeniach.\n– Warsztaty: Zdobądź cenną wiedzę prosto od ekspertów. Firmy poprowadzą warsztaty na różnorodne tematy- od case studies\, przez umiejętności techniczne\, aż po kompetencje miękkie.\n– CV Point: Zrób profesjonalne zdjęcia do CV i dowiedz się\, jak wyróżnić się w procesie rekrutacji.\n– Konferencja: Weź udział w licznych prelekcjach\, aby dowiedzieć się jeszcze więcej i zdobyć odpowiedzi na wszystkie pytania.
URL:https://fokus.media.pl/wydarzenie/studenckie-targi-pracy-sgh-2026/
LOCATION:Szkoła Główna Handlowa\, Aula Spadochronowa SGH\, Al. Niepodległości 172\, Warszawa
END:VEVENT
END:VCALENDAR