BEGIN:VCALENDAR
VERSION:2.0
PRODID:-//Fokus Media - ECPv6.15.20//NONSGML v1.0//EN
CALSCALE:GREGORIAN
METHOD:PUBLISH
X-ORIGINAL-URL:https://fokus.media.pl
X-WR-CALDESC:Wydarzenia dla Fokus Media
REFRESH-INTERVAL;VALUE=DURATION:PT1H
X-Robots-Tag:noindex
X-PUBLISHED-TTL:PT1H
BEGIN:VTIMEZONE
TZID:Europe/Warsaw
BEGIN:DAYLIGHT
TZOFFSETFROM:+0100
TZOFFSETTO:+0200
TZNAME:CEST
DTSTART:20250330T010000
END:DAYLIGHT
BEGIN:STANDARD
TZOFFSETFROM:+0200
TZOFFSETTO:+0100
TZNAME:CET
DTSTART:20251026T010000
END:STANDARD
BEGIN:DAYLIGHT
TZOFFSETFROM:+0100
TZOFFSETTO:+0200
TZNAME:CEST
DTSTART:20260329T010000
END:DAYLIGHT
BEGIN:STANDARD
TZOFFSETFROM:+0200
TZOFFSETTO:+0100
TZNAME:CET
DTSTART:20261025T010000
END:STANDARD
BEGIN:DAYLIGHT
TZOFFSETFROM:+0100
TZOFFSETTO:+0200
TZNAME:CEST
DTSTART:20270328T010000
END:DAYLIGHT
BEGIN:STANDARD
TZOFFSETFROM:+0200
TZOFFSETTO:+0100
TZNAME:CET
DTSTART:20271031T010000
END:STANDARD
END:VTIMEZONE
BEGIN:VEVENT
DTSTART;TZID=Europe/Warsaw:20260322T110000
DTEND;TZID=Europe/Warsaw:20260322T170000
DTSTAMP:20260424T012145
CREATED:20260305T134954Z
LAST-MODIFIED:20260305T134954Z
UID:4797-1774177200-1774198800@fokus.media.pl
SUMMARY:Jarmark Wielkanocny w Uzdrowisku Latoszyn Zdrój
DESCRIPTION:Jarmark Wielkanocny odbędzie się 22 marca 2026 r. (niedziela) od godziny 11:00 w Parku Zdrojowym przy Pijalni Wody w Uzdrowisko Latoszyn.\n\n\n\nWydarzenie będzie doskonałą okazją do poczucia świątecznej atmosfery\, spotkania z lokalnymi twórcami oraz spróbowania tradycyjnych wielkanocnych przysmaków.\n\n\nPodczas Jarmarku na odwiedzających czekać będą regionalne produkty\, rękodzieło oraz wielkanocne ozdoby\, a także tradycyjne przysmaki przygotowane przez Koła Gospodyń Wiejskich.\n\n\nDo udziału w wydarzeniu organizatorzy zapraszają również wytwórców produktów lokalnych\, rękodzielników\, artystów\, rzemieślników\, którzy chcieliby zaprezentować swoje wyroby podczas Jarmarku.\n\n\nUdział w wydarzeniu jest bezpłatny.\n\n\nOsoby zainteresowane wystawieniem stoiska – kontakt telefoniczny z sekretariatem Latoszyna Zdroju do 18 marca 2026 r. pod numerem 884 041 500.
URL:https://fokus.media.pl/wydarzenie/jarmark-wielkanocny-w-uzdrowisku-latoszyn-zdroj/
LOCATION:Uzdrowisko Latoszyn Zdrój
END:VEVENT
END:VCALENDAR